BEGIN:VCALENDAR
VERSION:2.0
PRODID:icalendar-ruby
CALSCALE:GREGORIAN
METHOD:PUBLISH
BEGIN:VEVENT
DTSTAMP:20260419T181524Z
UID:5-395199@presencechurch.tithelysetup2.com
DTSTART:20260726T170000Z
DTEND:20260726T180000Z
CLASS:PUBLIC
CREATED:20260414T035103
DESCRIPTION:Sunday Worship
LAST-MODIFIED:20260414T035103
LOCATION:
SUMMARY:Sunday Worship
URL;VALUE=URI:https://presencechurch.tithelysetup2.com/events/sunday-worshi
 p/2026-07-26
END:VEVENT
END:VCALENDAR
